{
 "currentVersion": 10.91,
 "serviceDescription": "",
 "mapName": "Base Map",
 "description": "",
 "copyrightText": "",
 "supportsDynamicLayers": true,
 "layers": [
  {
   "id": 0,
   "name": "Imagery_2018",
   "parentLayerId": -1,
   "defaultVisibility": true,
   "subLayerIds": [
    1,
    2,
    3
   ],
   "minScale": 0,
   "maxScale": 0,
   "type": "Mosaic Layer"
  },
  {
   "id": 1,
   "name": "Boundary",
   "parentLayerId": 0,
   "defaultVisibility": false,
   "subLayerIds": null,
   "minScale": 0,
   "maxScale": 0,
   "type": "Feature Layer",
   "geometryType": "esriGeometryPolygon"
  },
  {
   "id": 2,
   "name": "Footprint",
   "parentLayerId": 0,
   "defaultVisibility": false,
   "subLayerIds": null,
   "minScale": 0,
   "maxScale": 0,
   "type": "Feature Layer",
   "geometryType": "esriGeometryPolygon"
  },
  {
   "id": 3,
   "name": "Image",
   "parentLayerId": 0,
   "defaultVisibility": true,
   "subLayerIds": null,
   "minScale": 0,
   "maxScale": 0,
   "type": "Raster Layer"
  }
 ],
 "tables": [],
 "spatialReference": {
  "wkid": 102100,
  "latestWkid": 3857
 },
 "singleFusedMapCache": true,
 "tileInfo": {
  "rows": 256,
  "cols": 256,
  "dpi": 96,
  "format": "PNG32",
  "compressionQuality": 0,
  "origin": {
   "x": -2.0037508342787E7,
   "y": 2.0037508342787E7
  },
  "spatialReference": {
   "wkid": 102100,
   "latestWkid": 3857
  },
  "lods": [
   {
    "level": 0,
    "resolution": 305.74811314055756,
    "scale": 1155581.108577
   },
   {
    "level": 1,
    "resolution": 152.87405657041106,
    "scale": 577790.554289
   },
   {
    "level": 2,
    "resolution": 76.43702828507324,
    "scale": 288895.277144
   },
   {
    "level": 3,
    "resolution": 38.21851414253662,
    "scale": 144447.638572
   },
   {
    "level": 4,
    "resolution": 19.10925707126831,
    "scale": 72223.819286
   },
   {
    "level": 5,
    "resolution": 9.554628535634155,
    "scale": 36111.909643
   },
   {
    "level": 6,
    "resolution": 4.77731426794937,
    "scale": 18055.954822
   },
   {
    "level": 7,
    "resolution": 2.388657133974685,
    "scale": 9027.977411
   },
   {
    "level": 8,
    "resolution": 1.1943285668550503,
    "scale": 4513.988705
   },
   {
    "level": 9,
    "resolution": 0.5971642835598172,
    "scale": 2256.994353
   },
   {
    "level": 10,
    "resolution": 0.29858214164761665,
    "scale": 1128.497176
   },
   {
    "level": 11,
    "resolution": 0.14929107082380833,
    "scale": 564.248588
   },
   {
    "level": 12,
    "resolution": 0.07464553541190416,
    "scale": 282.124294
   },
   {
    "level": 13,
    "resolution": 0.03732276770595208,
    "scale": 141.062147
   },
   {
    "level": 14,
    "resolution": 0.01866138385297604,
    "scale": 70.5310735
   }
  ]
 },
 "initialExtent": {
  "xmin": -1.0684239492271379E7,
  "ymin": 3433320.5874491213,
  "xmax": -1.0528307954569556E7,
  "ymax": 3502266.786962378,
  "spatialReference": {
   "cs": "pcs",
   "wkid": 102100
  }
 },
 "fullExtent": {
  "xmin": -1.0695399422181157E7,
  "ymin": 3435771.3329100716,
  "xmax": -1.0559111876044834E7,
  "ymax": 3536920.419429001,
  "spatialReference": {
   "cs": "pcs",
   "wkid": 102100
  }
 },
 "minScale": 1155581.108577,
 "maxScale": 70.5310735,
 "units": "esriMeters",
 "supportedImageFormatTypes": "PNG32,PNG24,PNG,JPG,DIB,TIFF,EMF,PS,PDF,GIF,SVG,SVGZ,BMP",
 "documentInfo": {
  "Title": "",
  "Author": "",
  "Comments": "",
  "Subject": "",
  "Category": "",
  "AntialiasingMode": "None",
  "TextAntialiasingMode": "Force",
  "Keywords": ""
 },
 "capabilities": "Map,Query,Data",
 "supportedQueryFormats": "JSON, geoJSON",
 "exportTilesAllowed": false,
 "referenceScale": 0,
 "datumTransformations": [
  {
   "geoTransforms": [
    {
     "wkid": 108001,
     "latestWkid": 1241,
     "transformForward": true,
     "name": "NAD_1927_To_NAD_1983_NADCON"
    }
   ]
  },
  {
   "geoTransforms": [
    {
     "wkid": 108001,
     "latestWkid": 1241,
     "transformForward": false,
     "name": "NAD_1927_To_NAD_1983_NADCON"
    }
   ]
  }
 ],
 "supportsDatumTransformation": true,
 "maxRecordCount": 1000,
 "maxImageHeight": 4096,
 "maxImageWidth": 4096,
 "supportedExtensions": "",
 "resampling": false,
 "serviceItemId": "96bc7b041d224404ac6762b63ee27b7e"
}
